BEGIN:VCALENDAR
VERSION:2.0
PRODID:-//vvmccsa.org.au - ECPv6.15.20//NONSGML v1.0//EN
CALSCALE:GREGORIAN
METHOD:PUBLISH
X-WR-CALNAME:vvmccsa.org.au
X-ORIGINAL-URL:https://staging.vvmccsa.org.au
X-WR-CALDESC:Events for vvmccsa.org.au
REFRESH-INTERVAL;VALUE=DURATION:PT1H
X-Robots-Tag:noindex
X-PUBLISHED-TTL:PT1H
BEGIN:VTIMEZONE
TZID:Australia/Adelaide
BEGIN:STANDARD
TZOFFSETFROM:+1030
TZOFFSETTO:+0930
TZNAME:ACST
DTSTART:20250405T163000
END:STANDARD
BEGIN:DAYLIGHT
TZOFFSETFROM:+0930
TZOFFSETTO:+1030
TZNAME:ACDT
DTSTART:20251004T163000
END:DAYLIGHT
BEGIN:STANDARD
TZOFFSETFROM:+1030
TZOFFSETTO:+0930
TZNAME:ACST
DTSTART:20260404T163000
END:STANDARD
BEGIN:DAYLIGHT
TZOFFSETFROM:+0930
TZOFFSETTO:+1030
TZNAME:ACDT
DTSTART:20261003T163000
END:DAYLIGHT
BEGIN:STANDARD
TZOFFSETFROM:+1030
TZOFFSETTO:+0930
TZNAME:ACST
DTSTART:20270403T163000
END:STANDARD
BEGIN:DAYLIGHT
TZOFFSETFROM:+0930
TZOFFSETTO:+1030
TZNAME:ACDT
DTSTART:20271002T163000
END:DAYLIGHT
END:VTIMEZONE
BEGIN:VEVENT
DTSTART;TZID=Australia/Adelaide:20260404T091500
DTEND;TZID=Australia/Adelaide:20260404T091500
DTSTAMP:20260421T015444
CREATED:20250930T040810Z
LAST-MODIFIED:20251003T015824Z
UID:3876-1775294100-1775294100@staging.vvmccsa.org.au
SUMMARY:Coffee Morning
DESCRIPTION:
URL:https://staging.vvmccsa.org.au/event/coffee-morning-7/
LOCATION:The Nest Espresso Bar & Kitchen\, 77 George St\, Thebarton\, SA\, 5031\, Australia
END:VEVENT
BEGIN:VEVENT
DTSTART;TZID=Australia/Adelaide:20260402T100000
DTEND;TZID=Australia/Adelaide:20260402T100000
DTSTAMP:20260421T015444
CREATED:20250930T040732Z
LAST-MODIFIED:20251003T014423Z
UID:3856-1775124000-1775124000@staging.vvmccsa.org.au
SUMMARY:Northern Midweek Ride
DESCRIPTION:
URL:https://staging.vvmccsa.org.au/event/northern-midweek-ride-7/
LOCATION:The Gully Pub\, 1349 North East Road\, Tea Tree Gully\, SA\, 5091\, Australia
END:VEVENT
END:VCALENDAR