BEGIN:VCALENDAR
VERSION:2.0
PRODID:-//vvmccsa.org.au - ECPv6.15.20//NONSGML v1.0//EN
CALSCALE:GREGORIAN
METHOD:PUBLISH
X-ORIGINAL-URL:https://staging.vvmccsa.org.au
X-WR-CALDESC:Events for vvmccsa.org.au
REFRESH-INTERVAL;VALUE=DURATION:PT1H
X-Robots-Tag:noindex
X-PUBLISHED-TTL:PT1H
BEGIN:VTIMEZONE
TZID:Australia/Adelaide
BEGIN:STANDARD
TZOFFSETFROM:+1030
TZOFFSETTO:+0930
TZNAME:ACST
DTSTART:20250405T163000
END:STANDARD
BEGIN:DAYLIGHT
TZOFFSETFROM:+0930
TZOFFSETTO:+1030
TZNAME:ACDT
DTSTART:20251004T163000
END:DAYLIGHT
BEGIN:STANDARD
TZOFFSETFROM:+1030
TZOFFSETTO:+0930
TZNAME:ACST
DTSTART:20260404T163000
END:STANDARD
BEGIN:DAYLIGHT
TZOFFSETFROM:+0930
TZOFFSETTO:+1030
TZNAME:ACDT
DTSTART:20261003T163000
END:DAYLIGHT
BEGIN:STANDARD
TZOFFSETFROM:+1030
TZOFFSETTO:+0930
TZNAME:ACST
DTSTART:20270403T163000
END:STANDARD
BEGIN:DAYLIGHT
TZOFFSETFROM:+0930
TZOFFSETTO:+1030
TZNAME:ACDT
DTSTART:20271002T163000
END:DAYLIGHT
END:VTIMEZONE
BEGIN:VEVENT
DTSTART;TZID=Australia/Adelaide:20261110T200000
DTEND;TZID=Australia/Adelaide:20261110T200000
DTSTAMP:20260421T070549
CREATED:20250930T040911Z
LAST-MODIFIED:20251003T014756Z
UID:3913-1794340800-1794340800@staging.vvmccsa.org.au
SUMMARY:Club meeting
DESCRIPTION:
URL:https://staging.vvmccsa.org.au/event/club-meeting-14/
LOCATION:Payneham RSL clubrooms\, 360 Payneham Road\, Payneham\, SA\, 5070\, Australia
END:VEVENT
BEGIN:VEVENT
DTSTART;TZID=Australia/Adelaide:20261112T100000
DTEND;TZID=Australia/Adelaide:20261112T100000
DTSTAMP:20260421T070549
CREATED:20250930T040844Z
LAST-MODIFIED:20251003T014657Z
UID:3898-1794477600-1794477600@staging.vvmccsa.org.au
SUMMARY:Southern Ride
DESCRIPTION:
URL:https://staging.vvmccsa.org.au/event/southern-ride-14/
LOCATION:Victoria Hotel\, Main South Road O’Halloran Hill\, Main South Rd\, O'Halloran Hill\, SA\, 5158\, Australia
END:VEVENT
BEGIN:VEVENT
DTSTART;TZID=Australia/Adelaide:20261115T100000
DTEND;TZID=Australia/Adelaide:20261115T100000
DTSTAMP:20260421T070549
CREATED:20251003T074612Z
LAST-MODIFIED:20251003T074612Z
UID:4077-1794736800-1794736800@staging.vvmccsa.org.au
SUMMARY:Monthly Club Ride
DESCRIPTION:
URL:https://staging.vvmccsa.org.au/event/monthly-club-ride-14/
LOCATION:SA
END:VEVENT
BEGIN:VEVENT
DTSTART;TZID=Australia/Adelaide:20261119T100000
DTEND;TZID=Australia/Adelaide:20261119T100000
DTSTAMP:20260421T070549
CREATED:20250930T040935Z
LAST-MODIFIED:20251003T014859Z
UID:3930-1795082400-1795082400@staging.vvmccsa.org.au
SUMMARY:Old Crocks\, Veterans and Tiddlers ride
DESCRIPTION:
URL:https://staging.vvmccsa.org.au/event/old-crocks-veterans-and-tiddlers-ride-14/
LOCATION:Federation Park\, Gumeracha\, 32 Albert St\, Gumeracha\, SA\, 5233\, Australia
END:VEVENT
BEGIN:VEVENT
DTSTART;TZID=Australia/Adelaide:20261203T100000
DTEND;TZID=Australia/Adelaide:20261203T100000
DTSTAMP:20260421T070549
CREATED:20250930T040800Z
LAST-MODIFIED:20251003T014443Z
UID:3869-1796292000-1796292000@staging.vvmccsa.org.au
SUMMARY:Northern Midweek Ride
DESCRIPTION:
URL:https://staging.vvmccsa.org.au/event/northern-midweek-ride-15/
LOCATION:The Gully Pub\, 1349 North East Road\, Tea Tree Gully\, SA\, 5091\, Australia
END:VEVENT
BEGIN:VEVENT
DTSTART;TZID=Australia/Adelaide:20261205T091500
DTEND;TZID=Australia/Adelaide:20261205T091500
DTSTAMP:20260421T070549
CREATED:20250930T040821Z
LAST-MODIFIED:20251003T020216Z
UID:3884-1796462100-1796462100@staging.vvmccsa.org.au
SUMMARY:Coffee Morning
DESCRIPTION:
URL:https://staging.vvmccsa.org.au/event/coffee-morning-15/
LOCATION:The Nest Espresso Bar & Kitchen\, 77 George St\, Thebarton\, SA\, 5031\, Australia
END:VEVENT
BEGIN:VEVENT
DTSTART;TZID=Australia/Adelaide:20261208T200000
DTEND;TZID=Australia/Adelaide:20261208T200000
DTSTAMP:20260421T070549
CREATED:20250930T040912Z
LAST-MODIFIED:20251003T014756Z
UID:3914-1796760000-1796760000@staging.vvmccsa.org.au
SUMMARY:Club meeting
DESCRIPTION:
URL:https://staging.vvmccsa.org.au/event/club-meeting-15/
LOCATION:Payneham RSL clubrooms\, 360 Payneham Road\, Payneham\, SA\, 5070\, Australia
END:VEVENT
BEGIN:VEVENT
DTSTART;TZID=Australia/Adelaide:20261210T100000
DTEND;TZID=Australia/Adelaide:20261210T100000
DTSTAMP:20260421T070549
CREATED:20250930T040844Z
LAST-MODIFIED:20251003T014657Z
UID:3899-1796896800-1796896800@staging.vvmccsa.org.au
SUMMARY:Southern Ride
DESCRIPTION:
URL:https://staging.vvmccsa.org.au/event/southern-ride-15/
LOCATION:Victoria Hotel\, Main South Road O’Halloran Hill\, Main South Rd\, O'Halloran Hill\, SA\, 5158\, Australia
END:VEVENT
BEGIN:VEVENT
DTSTART;TZID=Australia/Adelaide:20261217T100000
DTEND;TZID=Australia/Adelaide:20261217T100000
DTSTAMP:20260421T070549
CREATED:20250930T040935Z
LAST-MODIFIED:20251003T014859Z
UID:3931-1797501600-1797501600@staging.vvmccsa.org.au
SUMMARY:Old Crocks\, Veterans and Tiddlers ride
DESCRIPTION:
URL:https://staging.vvmccsa.org.au/event/old-crocks-veterans-and-tiddlers-ride-15/
LOCATION:Federation Park\, Gumeracha\, 32 Albert St\, Gumeracha\, SA\, 5233\, Australia
END:VEVENT
BEGIN:VEVENT
DTSTART;TZID=Australia/Adelaide:20261220T100000
DTEND;TZID=Australia/Adelaide:20261220T100000
DTSTAMP:20260421T070549
CREATED:20251003T074612Z
LAST-MODIFIED:20251003T074612Z
UID:4078-1797760800-1797760800@staging.vvmccsa.org.au
SUMMARY:Monthly Club Ride
DESCRIPTION:
URL:https://staging.vvmccsa.org.au/event/monthly-club-ride-15/
LOCATION:SA
END:VEVENT
END:VCALENDAR