BEGIN:VCALENDAR
VERSION:2.0
PRODID:-//vvmccsa.org.au - ECPv6.15.20//NONSGML v1.0//EN
CALSCALE:GREGORIAN
METHOD:PUBLISH
X-ORIGINAL-URL:https://staging.vvmccsa.org.au
X-WR-CALDESC:Events for vvmccsa.org.au
REFRESH-INTERVAL;VALUE=DURATION:PT1H
X-Robots-Tag:noindex
X-PUBLISHED-TTL:PT1H
BEGIN:VTIMEZONE
TZID:Australia/Adelaide
BEGIN:STANDARD
TZOFFSETFROM:+1030
TZOFFSETTO:+0930
TZNAME:ACST
DTSTART:20250405T163000
END:STANDARD
BEGIN:DAYLIGHT
TZOFFSETFROM:+0930
TZOFFSETTO:+1030
TZNAME:ACDT
DTSTART:20251004T163000
END:DAYLIGHT
BEGIN:STANDARD
TZOFFSETFROM:+1030
TZOFFSETTO:+0930
TZNAME:ACST
DTSTART:20260404T163000
END:STANDARD
BEGIN:DAYLIGHT
TZOFFSETFROM:+0930
TZOFFSETTO:+1030
TZNAME:ACDT
DTSTART:20261003T163000
END:DAYLIGHT
BEGIN:STANDARD
TZOFFSETFROM:+1030
TZOFFSETTO:+0930
TZNAME:ACST
DTSTART:20270403T163000
END:STANDARD
BEGIN:DAYLIGHT
TZOFFSETFROM:+0930
TZOFFSETTO:+1030
TZNAME:ACDT
DTSTART:20271002T163000
END:DAYLIGHT
END:VTIMEZONE
BEGIN:VEVENT
DTSTART;TZID=Australia/Adelaide:20260903T100000
DTEND;TZID=Australia/Adelaide:20260903T100000
DTSTAMP:20260421T040404
CREATED:20250930T040749Z
LAST-MODIFIED:20251003T014438Z
UID:3866-1788429600-1788429600@staging.vvmccsa.org.au
SUMMARY:Northern Midweek Ride
DESCRIPTION:
URL:https://staging.vvmccsa.org.au/event/northern-midweek-ride-12/
LOCATION:The Gully Pub\, 1349 North East Road\, Tea Tree Gully\, SA\, 5091\, Australia
END:VEVENT
BEGIN:VEVENT
DTSTART;TZID=Australia/Adelaide:20260905T091500
DTEND;TZID=Australia/Adelaide:20260905T091500
DTSTAMP:20260421T040404
CREATED:20250930T040820Z
LAST-MODIFIED:20251003T020050Z
UID:3881-1788599700-1788599700@staging.vvmccsa.org.au
SUMMARY:Coffee Morning
DESCRIPTION:
URL:https://staging.vvmccsa.org.au/event/coffee-morning-12/
LOCATION:The Nest Espresso Bar & Kitchen\, 77 George St\, Thebarton\, SA\, 5031\, Australia
END:VEVENT
BEGIN:VEVENT
DTSTART;TZID=Australia/Adelaide:20260908T200000
DTEND;TZID=Australia/Adelaide:20260908T200000
DTSTAMP:20260421T040404
CREATED:20250930T040902Z
LAST-MODIFIED:20251003T014747Z
UID:3911-1788897600-1788897600@staging.vvmccsa.org.au
SUMMARY:Club meeting
DESCRIPTION:
URL:https://staging.vvmccsa.org.au/event/club-meeting-12/
LOCATION:Payneham RSL clubrooms\, 360 Payneham Road\, Payneham\, SA\, 5070\, Australia
END:VEVENT
BEGIN:VEVENT
DTSTART;TZID=Australia/Adelaide:20260910T100000
DTEND;TZID=Australia/Adelaide:20260910T100000
DTSTAMP:20260421T040404
CREATED:20250930T040837Z
LAST-MODIFIED:20251003T014642Z
UID:3896-1789034400-1789034400@staging.vvmccsa.org.au
SUMMARY:Southern Ride
DESCRIPTION:
URL:https://staging.vvmccsa.org.au/event/southern-ride-12/
LOCATION:Victoria Hotel\, Main South Road O’Halloran Hill\, Main South Rd\, O'Halloran Hill\, SA\, 5158\, Australia
END:VEVENT
BEGIN:VEVENT
DTSTART;TZID=Australia/Adelaide:20260917T100000
DTEND;TZID=Australia/Adelaide:20260917T100000
DTSTAMP:20260421T040404
CREATED:20250930T040928Z
LAST-MODIFIED:20251003T014853Z
UID:3928-1789639200-1789639200@staging.vvmccsa.org.au
SUMMARY:Old Crocks\, Veterans and Tiddlers ride
DESCRIPTION:
URL:https://staging.vvmccsa.org.au/event/old-crocks-veterans-and-tiddlers-ride-12/
LOCATION:Federation Park\, Gumeracha\, 32 Albert St\, Gumeracha\, SA\, 5233\, Australia
END:VEVENT
BEGIN:VEVENT
DTSTART;TZID=Australia/Adelaide:20260920T100000
DTEND;TZID=Australia/Adelaide:20260920T100000
DTSTAMP:20260421T040404
CREATED:20250930T040956Z
LAST-MODIFIED:20251003T015119Z
UID:3943-1789898400-1789898400@staging.vvmccsa.org.au
SUMMARY:Monthly Club Ride
DESCRIPTION:
URL:https://staging.vvmccsa.org.au/event/monthly-club-ride-12/
END:VEVENT
END:VCALENDAR